BEGIN:VCALENDAR
VERSION:2.0
PRODID:-//The Food Drive Kids - ECPv6.15.20//NONSGML v1.0//EN
CALSCALE:GREGORIAN
METHOD:PUBLISH
X-ORIGINAL-URL:https://thefooddrivekids.org
X-WR-CALDESC:Events for The Food Drive Kids
REFRESH-INTERVAL;VALUE=DURATION:PT1H
X-Robots-Tag:noindex
X-PUBLISHED-TTL:PT1H
BEGIN:VTIMEZONE
TZID:UTC
BEGIN:STANDARD
TZOFFSETFROM:+0000
TZOFFSETTO:+0000
TZNAME:UTC
DTSTART:20170101T000000
END:STANDARD
END:VTIMEZONE
BEGIN:VEVENT
DTSTART;TZID=UTC:20180324T090000
DTEND;TZID=UTC:20180324T170000
DTSTAMP:20260424T122940
CREATED:20180104T003746Z
LAST-MODIFIED:20180131T231854Z
UID:132-1521882000-1521910800@thefooddrivekids.org
SUMMARY:Eastway Elementary Garden Build
DESCRIPTION:The Food Drive Kids in conjunction with the Occoneechee Council of the Boy Scouts of America Day of Service will be working with The Interfaith Food Shuttle to sponsor the building of a community garden and outdoor classroom at Eastway Elementary School in Durham\, NC. Eastway has a 99% rate of children receiving free and reduced lunch\, many of whom lack access to sources of fresh fruits and vegetables. This garden will be operated by the students and the students will be the beneficiaries of the crops produced. To volunteer CLICK HERE to sign up!
URL:https://thefooddrivekids.org/event/eastway-elementary-garden-build/
LOCATION:Eastway Elementary School\, 610 N Alston Ave\, Durham\, NC\, 27701\, United States
ATTACH;FMTTYPE=image/jpeg:https://thefooddrivekids.org/wp-content/uploads/2018/01/IMG_0201-1.jpg
END:VEVENT
END:VCALENDAR