BEGIN:VCALENDAR
VERSION:2.0
PRODID:-//The Food Drive Kids - ECPv6.15.20//NONSGML v1.0//EN
CALSCALE:GREGORIAN
METHOD:PUBLISH
X-WR-CALNAME:The Food Drive Kids
X-ORIGINAL-URL:https://thefooddrivekids.org
X-WR-CALDESC:Events for The Food Drive Kids
REFRESH-INTERVAL;VALUE=DURATION:PT1H
X-Robots-Tag:noindex
X-PUBLISHED-TTL:PT1H
BEGIN:VTIMEZONE
TZID:America/New_York
BEGIN:DAYLIGHT
TZOFFSETFROM:-0500
TZOFFSETTO:-0400
TZNAME:EDT
DTSTART:20180311T070000
END:DAYLIGHT
BEGIN:STANDARD
TZOFFSETFROM:-0400
TZOFFSETTO:-0500
TZNAME:EST
DTSTART:20181104T060000
END:STANDARD
BEGIN:DAYLIGHT
TZOFFSETFROM:-0500
TZOFFSETTO:-0400
TZNAME:EDT
DTSTART:20190310T070000
END:DAYLIGHT
BEGIN:STANDARD
TZOFFSETFROM:-0400
TZOFFSETTO:-0500
TZNAME:EST
DTSTART:20191103T060000
END:STANDARD
BEGIN:DAYLIGHT
TZOFFSETFROM:-0500
TZOFFSETTO:-0400
TZNAME:EDT
DTSTART:20200308T070000
END:DAYLIGHT
BEGIN:STANDARD
TZOFFSETFROM:-0400
TZOFFSETTO:-0500
TZNAME:EST
DTSTART:20201101T060000
END:STANDARD
END:VTIMEZONE
BEGIN:VEVENT
DTSTART;TZID=America/New_York:20190427T100000
DTEND;TZID=America/New_York:20190427T180000
DTSTAMP:20260424T122758
CREATED:20190120T202539Z
LAST-MODIFIED:20190312T214925Z
UID:658-1556359200-1556388000@thefooddrivekids.org
SUMMARY:Food Drive For Backpack Buddies - 2019
DESCRIPTION:Emergency hunger relief is critical for kids at risk of hunger. That is why we are partnering with The Interfaith Food Shuttle for the 7th annual Food Drive to Benefit Backpack Buddies. This is our signature event of the year. This year on April 27\, 2019 we will have volunteers standing outside of 10 grocery stores in Apex\, Durham\, Cary\, and Raleigh. \nThis year our goal is to donate 10\,000 pounds of food and $10\,000 to help feed kids who don’t have access to food on the weekends. We can’t do this without a lot of help. \nCLICK HERE TO LEARN HOW YOU CAN GET INVOLOVED OR DONATE
URL:https://thefooddrivekids.org/event/food-drive-for-backpack-buddies-2019/
ATTACH;FMTTYPE=image/jpeg:https://thefooddrivekids.org/wp-content/uploads/2019/01/IMG_0528.jpg
END:VEVENT
END:VCALENDAR